BEGIN:VCALENDAR
VERSION:2.0
PRODID:-//HRi - ECPv6.10.3//NONSGML v1.0//EN
CALSCALE:GREGORIAN
METHOD:PUBLISH
X-ORIGINAL-URL:https://hrindependents.co.uk
X-WR-CALDESC:Events for HRi
REFRESH-INTERVAL;VALUE=DURATION:PT1H
X-Robots-Tag:noindex
X-PUBLISHED-TTL:PT1H
BEGIN:VTIMEZONE
TZID:UTC
BEGIN:STANDARD
TZOFFSETFROM:+0000
TZOFFSETTO:+0000
TZNAME:UTC
DTSTART:20210101T000000
END:STANDARD
END:VTIMEZONE
BEGIN:VEVENT
DTSTART;TZID=UTC:20210615T100000
DTEND;TZID=UTC:20210615T113000
DTSTAMP:20260419T173803
CREATED:20210517T200644Z
LAST-MODIFIED:20210524T095630Z
UID:4325-1623751200-1623756600@hrindependents.co.uk
SUMMARY:Reward/Resourcing: EXTERNAL HR & PEOPLE CAREER PATHS AND FEE SURVEY
DESCRIPTION:HRi Focus Group
URL:https://hrindependents.co.uk/event/reward-resourcing-external-hr-people-career-paths-and-fee-survey/
LOCATION:Via Zoom\, United Kingdom
ATTACH;FMTTYPE=image/jpeg:https://hrindependents.co.uk/app/uploads/2021/04/logo.jpg
END:VEVENT
END:VCALENDAR