BEGIN:VCALENDAR
VERSION:2.0
PRODID:-//HRi - ECPv6.10.3//NONSGML v1.0//EN
CALSCALE:GREGORIAN
METHOD:PUBLISH
X-WR-CALNAME:HRi
X-ORIGINAL-URL:https://hrindependents.co.uk
X-WR-CALDESC:Events for HRi
REFRESH-INTERVAL;VALUE=DURATION:PT1H
X-Robots-Tag:noindex
X-PUBLISHED-TTL:PT1H
BEGIN:VTIMEZONE
TZID:UTC
BEGIN:STANDARD
TZOFFSETFROM:+0000
TZOFFSETTO:+0000
TZNAME:UTC
DTSTART:20220101T000000
END:STANDARD
END:VTIMEZONE
BEGIN:VEVENT
DTSTART;TZID=UTC:20220303T123000
DTEND;TZID=UTC:20220303T133000
DTSTAMP:20260421T090329
CREATED:20220206T172354Z
LAST-MODIFIED:20220206T172354Z
UID:5036-1646310600-1646314200@hrindependents.co.uk
SUMMARY:Confidence in words - Speakers Masterclass
DESCRIPTION:How to become sought after & in demand speak\n\n\n\n\n\nAbout this event\n\n\nThis event is for women who want to use their voice for greater impact and income. Powerful communicators who run their own businesses and want to make money by speaking on stages. \n\n\nWhat you will get from the session:\n\nHow to become sought after & in demand speaker\nThe real reason you’re not yet paid to speak\nHow to stop chasing gigs and start attracting them\n\n\n\nAbout the presenter:\nLovelda Vincenzi is a world-renowned Speaker Coach\, Moderator and MC. She coaches and mentors female leaders get invited and paid to speak on their dream stages without pitching\, discounting or wasting precious time. Lovelda is frequently found introducing and facilitating conversations with political figureheads\, celebrities\, business executives and entrepreneurs. Tom Daly\, Margrethe Vestagar (European Commissioner for Competition)\, Monica Lewinsky\, Kunal Nayyar (Big Bang Theory)\, and Paul Polman (Former Unilever CEO) are just some of the well-known people she has worked with. \n\n\nTestimonials:\n\nLois Strachan – President Cape Chapter\, PSA South Africa:\n\n“Lovelda presented a masterclass to our women speaker mastermind in December 2021. Lovelda was a pleasure to work with and I was impressed by her professionalism and efficient communication. Her presentation was filled with great advice and practical solutions and her speaking style was engaging and authentic. She gave great value to our attendees. Lovelda’s masterclass was one of the highlights of our year.” \n\nTyron Harding\, Trauma Focused Inspirational Speaker & Disability Inclusion Advocate:\n\n“Lovelda is a phenomenal Speaking Coach! She gave a presentation to our Professional Speaker Association Chapter which left every single person in the room with actionable steps to push their Speaking Careers forward! She went above and beyond what we were expecting… A true Professional!” \n\nSherry Darden\, CEO Growth Strategist:\n\n“Wow! What a powerhouse! Other coaches can take notes from her! This is a lady that is not afraid to share her knowledge nuggets. Her 3 day workshop that she gifted not only empowered me to improve my profile to propel my business\, but helped make sense of things. In just one hour\, I discovered why with all of my efforts\, I was not getting in front of the right audience. I look forward to receiving more coaching nuggets for years to come! Thank you Lovelda!”
URL:https://hrindependents.co.uk/event/confidence-in-words-speakers-masterclass/
LOCATION:Via Zoom\, United Kingdom
ATTACH;FMTTYPE=image/png:https://hrindependents.co.uk/app/uploads/2022/02/Untitled-design-16.png
END:VEVENT
END:VCALENDAR