BEGIN:VCALENDAR
VERSION:2.0
PRODID:-//HRi - ECPv6.10.3//NONSGML v1.0//EN
CALSCALE:GREGORIAN
METHOD:PUBLISH
X-ORIGINAL-URL:https://hrindependents.co.uk
X-WR-CALDESC:Events for HRi
REFRESH-INTERVAL;VALUE=DURATION:PT1H
X-Robots-Tag:noindex
X-PUBLISHED-TTL:PT1H
BEGIN:VTIMEZONE
TZID:UTC
BEGIN:STANDARD
TZOFFSETFROM:+0000
TZOFFSETTO:+0000
TZNAME:UTC
DTSTART:20210101T000000
END:STANDARD
END:VTIMEZONE
BEGIN:VEVENT
DTSTART;TZID=UTC:20210713T123000
DTEND;TZID=UTC:20210713T133000
DTSTAMP:20260424T084440
CREATED:20210607T111809Z
LAST-MODIFIED:20210625T075337Z
UID:4402-1626179400-1626183000@hrindependents.co.uk
SUMMARY:Setting up a profitable and sustainable HR consultancy business
DESCRIPTION:Are you new to consultancy or thinking about going out on your own? Come and learn more about how to effectively set up your own consultancy\, and how to ensure it is profitable and sustainable. We will give you practical tips on setting up and running your HR consultancy.
URL:https://hrindependents.co.uk/event/how-to-become-a-hr-consultant/
LOCATION:Via Zoom\, United Kingdom
ATTACH;FMTTYPE=image/jpeg:https://hrindependents.co.uk/app/uploads/2021/04/logo.jpg
END:VEVENT
BEGIN:VEVENT
DTSTART;TZID=UTC:20210715T110000
DTEND;TZID=UTC:20210715T120000
DTSTAMP:20260424T084440
CREATED:20210616T082650Z
LAST-MODIFIED:20210626T162511Z
UID:4423-1626346800-1626350400@hrindependents.co.uk
SUMMARY:Shareholder Agreements- Freeths
DESCRIPTION:We are delighted to be joined by our legal partners\, Freeths on 15 July where they will take us through the essentials of shareholders agreements\, including: \n\n\nWhat is a shareholders’ agreement?\nWhy have one?\nWhat does it typically cover?\nCommon mistakes & pitfalls\nQ&A\n\n  \nPlease note\, by registering you agree to share your details with our legal partner\, Freeths. To opt out\, please let us know by emailing: hello@hrindependents.co.uk
URL:https://hrindependents.co.uk/event/shareholder-agreements-freeths/
LOCATION:Via Zoom\, United Kingdom
END:VEVENT
END:VCALENDAR