BEGIN:VCALENDAR
VERSION:2.0
PRODID:-//HRi - ECPv6.10.3//NONSGML v1.0//EN
CALSCALE:GREGORIAN
METHOD:PUBLISH
X-ORIGINAL-URL:https://hrindependents.co.uk
X-WR-CALDESC:Events for HRi
REFRESH-INTERVAL;VALUE=DURATION:PT1H
X-Robots-Tag:noindex
X-PUBLISHED-TTL:PT1H
BEGIN:VTIMEZONE
TZID:Europe/Paris
BEGIN:DAYLIGHT
TZOFFSETFROM:+0100
TZOFFSETTO:+0200
TZNAME:CEST
DTSTART:20210328T010000
END:DAYLIGHT
BEGIN:STANDARD
TZOFFSETFROM:+0200
TZOFFSETTO:+0100
TZNAME:CET
DTSTART:20211031T010000
END:STANDARD
END:VTIMEZONE
BEGIN:VTIMEZONE
TZID:UTC
BEGIN:STANDARD
TZOFFSETFROM:+0000
TZOFFSETTO:+0000
TZNAME:UTC
DTSTART:20210101T000000
END:STANDARD
END:VTIMEZONE
BEGIN:VEVENT
DTSTART;TZID=Europe/Paris:20210423T100000
DTEND;TZID=Europe/Paris:20210423T110000
DTSTAMP:20260424T114851
CREATED:20210408T094745Z
LAST-MODIFIED:20210408T094745Z
UID:4055-1619172000-1619175600@hrindependents.co.uk
SUMMARY:Incorporating Payroll into your HR consultancy
DESCRIPTION:About this Event\n\n\nAbout the presenter/business:\nKatie Sharpe – Head of UK Payroll \nKatie is Head of UK Payroll for Mazars leading our national teams. Katie has a degree in payroll management and in 2019 was elected as a Board Director for the chartered Institute of Payroll Professionals. She is passionate about the development and recognition of the payroll Industry\, and is a frequent speaker at Industry events. Katie personally Specialises in process improvement and gender pay gap reporting. \n  \nSarah Aves – Senior Client Advisor \nSarah is Payroll Alliance qualified in UK payroll Management. Sarah Joined Mazars in 2014\, having previously worked in other payroll bureaus since 2009. She has extensive expertise in all payroll matters including Shares through payroll\, benefits in kind\, expatriate employees\, termination payments and redundancy together with a knowledge of Auto enrolment. Recent work includes processing of payrolls for the Channel Islands and Isle of Man\, undertaking payroll health checks\, Payroll implementations including large TUPE transfers. Exceeding client expectations and delivering exceptional client service is paramount to Sarah and her team. \n  \nWhat you will get from the session:\nOverview of the payroll service that Mazars can provide for your clients
URL:https://hrindependents.co.uk/event/incorporating-payroll-into-your-hr-consultancy-2/
ATTACH;FMTTYPE=image/jpeg:https://hrindependents.co.uk/app/uploads/2021/03/logo.jpg
END:VEVENT
BEGIN:VEVENT
DTSTART;TZID=UTC:20210428T123000
DTEND;TZID=UTC:20210428T133000
DTSTAMP:20260424T114851
CREATED:20210219T144751Z
LAST-MODIFIED:20210406T081812Z
UID:3688-1619613000-1619616600@hrindependents.co.uk
SUMMARY:Using PR to build visibility of your HR brand - Rachael Dines
DESCRIPTION:Who is it for?  \nThis online event is aimed at HR business owners that want to get media coverage but don’t know how. \nAbout the presenter/business:  \nRachael Dines is the founder of Shake It Up Creative\, an award-winning\, growing marketing agency in West Sussex. A Chartered Marketer and approved Enterprise Nation Adviser\, her marketing career has spanned over 20 years across the B2B\, B2C and Charity sectors\, both in-house and agency-side. She is currently an adviser on regional funded support programmes including South East Business Boost and the High Streets of Winchester Retail Support Club. Rachael has featured on BBC Radio Sussex\, Radio Reverb and as an expert guest on the LBC Radio Clive Bull Business Show. Passionate about sharing her knowledge and working collaboratively\, Rachael is pleased to be a speaker for the HRi webinar series.  \nWhat you will get from the session:  \nGetting in the paper or on the radio isn’t as easy as it used to be. Journalists are inundated with press releases every day and media outlets work with skeleton staff. Learn the details about what makes the best stories and how to confidently pitch them to the local media.  \nYou will leave this session knowing:  \n• What PR is and how it can benefit your company  \n• The different types of media target  \n• What makes a good news story  \n• What journalists are looking for  \n• How to approach a journalist/media title  \nTestimonials/recommendations:  \n“Working with Shake it up Creative was a key reason we were successful in winning the People’s Projects\, with Rachael securing a lot of exposure in local press and being the driving force behind a new support group for invisible disabilities on Facebook. They are open to new ideas and I would definitely recommend them for a creative company.”  \nJessica Cheetham\, Producer\, Root Experience  \n “My session with Rachael was really helpful\, and packed with very informative advice. She provided me with loads of actionable steps to take\, and plenty of great ideas I hadn’t thought about.”  \nTim Hanley\, Go Tiger!  \n“My business was a little up and down due to my own health and Rachael was sympathetic and gave me some very helpful strategies to help my business be visible digitally when I was concentrating on my health.  \nThe suggestions were really a light bulb moment and they have reduced a lot of stress and I am able to focus on other areas as I am now so organised with my digital marketing.”  \nKayla\, Safety Mode
URL:https://hrindependents.co.uk/event/using-pr-to-build-visibility-of-your-hr-brand-rachael-dines/
LOCATION:Via Zoom\, United Kingdom
ATTACH;FMTTYPE=image/png:https://hrindependents.co.uk/app/uploads/2021/02/Untitled-design.png
END:VEVENT
END:VCALENDAR