BEGIN:VCALENDAR
VERSION:2.0
PRODID:-//HRi - ECPv6.10.3//NONSGML v1.0//EN
CALSCALE:GREGORIAN
METHOD:PUBLISH
X-ORIGINAL-URL:https://hrindependents.co.uk
X-WR-CALDESC:Events for HRi
REFRESH-INTERVAL;VALUE=DURATION:PT1H
X-Robots-Tag:noindex
X-PUBLISHED-TTL:PT1H
BEGIN:VTIMEZONE
TZID:UTC
BEGIN:STANDARD
TZOFFSETFROM:+0000
TZOFFSETTO:+0000
TZNAME:UTC
DTSTART:20230101T000000
END:STANDARD
END:VTIMEZONE
BEGIN:VEVENT
DTSTART;TZID=UTC:20230523T120000
DTEND;TZID=UTC:20230523T130000
DTSTAMP:20260422T073055
CREATED:20230417T143054Z
LAST-MODIFIED:20230421T102208Z
UID:7507-1684843200-1684846800@hrindependents.co.uk
SUMMARY:Case Conference
DESCRIPTION:23 May @ 12:00-13:00 \nAbout Case Conference\nHosted by HRi Chief Executive Mary Asante\, this case conference session gives you the opportunity to share and discuss a case\, an issue or a dilemma and benefit from real-time advice and support from each other. \nThis session is a safe and confidential space\, calls are not recorded\, and the aim is to support each other and share advice and perspectives. \nIf you have something you wish to share a case\, issue or dilemma please email hello@hrindependents.co.uk detailing the case/ topic you would like to discuss. \nAs this is a 1-hour session where we can discuss a limited number of cases and can take up to 2. \n  \nWho should attend?\nThis event is for all independent HR consultants and stand-alone. If you wish to discuss a topic of your own please let us know so we can add this to the agenda. \nREGISTER TO ATTEND \n  \nHost\n \n  \n  \n  \n  \n  \nREGISTER TO ATTEND
URL:https://hrindependents.co.uk/event/case-conference/
LOCATION:Via Zoom\, United Kingdom
ATTACH;FMTTYPE=image/png:https://hrindependents.co.uk/app/uploads/2023/04/Case-Conference.png
END:VEVENT
END:VCALENDAR