BEGIN:VCALENDAR
VERSION:2.0
PRODID:-//HRi - ECPv6.10.3//NONSGML v1.0//EN
CALSCALE:GREGORIAN
METHOD:PUBLISH
X-WR-CALNAME:HRi
X-ORIGINAL-URL:https://hrindependents.co.uk
X-WR-CALDESC:Events for HRi
REFRESH-INTERVAL;VALUE=DURATION:PT1H
X-Robots-Tag:noindex
X-PUBLISHED-TTL:PT1H
BEGIN:VTIMEZONE
TZID:UTC
BEGIN:STANDARD
TZOFFSETFROM:+0000
TZOFFSETTO:+0000
TZNAME:UTC
DTSTART:20220101T000000
END:STANDARD
END:VTIMEZONE
BEGIN:VEVENT
DTSTART;TZID=UTC:20220329T123000
DTEND;TZID=UTC:20220329T133000
DTSTAMP:20260422T111709
CREATED:20220228T175757Z
LAST-MODIFIED:20220312T120002Z
UID:5078-1648557000-1648560600@hrindependents.co.uk
SUMMARY:How to stop your HR Consultancy being a well-kept secret
DESCRIPTION:Find out how to build the foundations of a realistic and do-able marketing strategy and plan for your HR Consultancy.\n\n\n\n\n\nAbout this event\n\n\nWhat you will get from the session:\nFind out how to build the foundations of a realistic and do-able marketing strategy and plan for your HR Consultancy without paid ads or complex funnels. \nLearn what steps you need to take to promote your business and start attracting better quality\, profitable clients who appreciate the services you offer and pay you what you’re worth. \nYou’ll get a worksheet to help you get clear about: \n\nYour Plan – what you need to sell to reach your financial targets?\nYour Proposition – what do you offer that your prospective clients really want?\nYour People – who are the clients you most want to work with and how do you attract them?\n\nPlus a Quick Win: \n\n6 things to include on your website home page to help turn browsers into buyers.\n\n\n\nWho is it for:\nOwners & Partners of independent HR Consultancies who want to discover how to attract ideal clients who will pay them regularly and value what they offer. \n\n\nAbout the presenter:\nEmma Tarring & The Marketing Matrix\nEmma Tarring M CIPR is Co-founder and Director of The Marketing Matrix\, the marketing strategy\, support and training consultancy based in Walton-on-Thames\, Surrey\, UK. \nWe specialise in creating and growing B2B and professional consultancy businesses in sectors including HR\, leadership & development\, coaching\, employee engagement\, recruitment and business innovation. \nOver the past decade\, Emma and Co-founder Anneve Hutchinson M IDM have helped well over 100 owners and managers of consultancies to create sustainable profits from their businesses through clear\, consistent and confident marketing. \nEmma was a business and tech journalist and PR for many years\, and later head of corporate affairs for Cable & Wireless Communications before leaving corporate life to become an independent PR and Communications consultant. \nThe Marketing Matrix also hosts The Corporate Escape Club https://thecorporateescapeclub.co.uk/ \, a monthly conversation and collaboration networking group for B2B consultants who have escaped corporate life to create their own consultancy businesses – or who are planning on doing so. \n  \n\n\nTestimonials:\n“Emma & Anneve have put my mind at rest throughout and they have taken away the anxiety and fear that I had about getting my business to have an online presence. Their communication has been exceptional and their calm desire to find ways around all the problems that I presented has made my experience of producing a website far less painful that I feared it would be!” \nHannah Copeland\, HR SOS \n  \n“The Marketing Matrix has been the valued business partner of Priority Appointments for over 7 years. Anneve and Emma have been pivotal in all of our strategic and tactical marketing planning which has resulted in a significantly enhanced brand profile and increased customer awareness. 5 star service!!” \nBarbara Law\, MD\, Priority Appointments \nTestimonial for The Corporate Escape Club \n“Thank you for yesterday\, again it was a great event and meeting everyone was really enjoyable. I am going to arrange some more one to one’s based on the back of this. Also thank you for the marketing nuggets too\, very helpful.” \nJane Blackwood\, HR Business Consultants \n\n\n\n\nFuture Events with HR Independents:\n\n11 May 2022 – 10 ways content can attract your ideal HR clients £49
URL:https://hrindependents.co.uk/event/how-to-stop-your-hr-consultancy-being-a-well-kept-secret/
ATTACH;FMTTYPE=image/png:https://hrindependents.co.uk/app/uploads/2022/02/Untitled-design-19.png
END:VEVENT
END:VCALENDAR