BEGIN:VCALENDAR
VERSION:2.0
PRODID:-//HRi - ECPv6.10.3//NONSGML v1.0//EN
CALSCALE:GREGORIAN
METHOD:PUBLISH
X-WR-CALNAME:HRi
X-ORIGINAL-URL:https://hrindependents.co.uk
X-WR-CALDESC:Events for HRi
REFRESH-INTERVAL;VALUE=DURATION:PT1H
X-Robots-Tag:noindex
X-PUBLISHED-TTL:PT1H
BEGIN:VTIMEZONE
TZID:UTC
BEGIN:STANDARD
TZOFFSETFROM:+0000
TZOFFSETTO:+0000
TZNAME:UTC
DTSTART:20250101T000000
END:STANDARD
END:VTIMEZONE
BEGIN:VEVENT
DTSTART;TZID=UTC:20250905T110000
DTEND;TZID=UTC:20250905T113000
DTSTAMP:20260419T210629
CREATED:20250820T191425Z
LAST-MODIFIED:20250820T191425Z
UID:13167-1757070000-1757071800@hrindependents.co.uk
SUMMARY:HRi Coffee & Connect
DESCRIPTION:Your weekly rendezvous with the HR indies community! \nJoin us for HRi Coffee & Connect\, your weekly rendezvous to meet with your fellow HR indies. \nGrab your favourite cup of coffee or beverage\, settle into your comfy space and enjoy a half-hour of casual networking and insightful conversations with your fellow HR indies. \nRegister \nWhether you’re an HR and People Pro or just starting your journey\, HRi Coffee & Connect is the ideal Friday pick-me-up to energise and recharge. This is your chance to connect with like-minded peers\, share experiences\, and expand your professional network in a relaxed yet enriching environment. \nDon’t miss out on this chance to sip\, chat\, and connect with fellow HR indies. \nSee you there!
URL:https://hrindependents.co.uk/event/hri-coffee-connect-6/
LOCATION:Online
CATEGORIES:Networking
ATTACH;FMTTYPE=image/png:https://hrindependents.co.uk/app/uploads/2024/12/HRi-Coffee-and-Connect-2.png
END:VEVENT
BEGIN:VEVENT
DTSTART;TZID=UTC:20250910T120000
DTEND;TZID=UTC:20250910T130000
DTSTAMP:20260419T210629
CREATED:20250829T112542Z
LAST-MODIFIED:20250910T160008Z
UID:13197-1757505600-1757509200@hrindependents.co.uk
SUMMARY:Discrimination Update
DESCRIPTION:Join us for an essential legal update with our partner\, Freeths\nWe are delighted to be joined by our legal partner\, Freeths for an update on recent developments in discrimination law. \nIn this session Amanda Trewhella will unpack the latest legislative changes and recent cases and explore their practical impact for HR professionals. \n  \nRegister \n  \n \n 
URL:https://hrindependents.co.uk/event/discrimination-update/
LOCATION:Online
CATEGORIES:Employment Law
ATTACH;FMTTYPE=image/png:https://hrindependents.co.uk/app/uploads/2025/08/Discrimination-update-banenr.png
END:VEVENT
BEGIN:VEVENT
DTSTART;TZID=UTC:20250912T110000
DTEND;TZID=UTC:20250912T113000
DTSTAMP:20260419T210629
CREATED:20250820T191822Z
LAST-MODIFIED:20250820T191822Z
UID:13170-1757674800-1757676600@hrindependents.co.uk
SUMMARY:HRi Coffee & Connect
DESCRIPTION:Your weekly rendezvous with the HR indies community! \nJoin us for HRi Coffee & Connect\, your weekly rendezvous to meet with your fellow HR indies. \nGrab your favourite cup of coffee or beverage\, settle into your comfy space and enjoy a half-hour of casual networking and insightful conversations with your fellow HR indies. \nRegister \nWhether you’re an HR and People Pro or just starting your journey\, HRi Coffee & Connect is the ideal Friday pick-me-up to energise and recharge. This is your chance to connect with like-minded peers\, share experiences\, and expand your professional network in a relaxed yet enriching environment. \nDon’t miss out on this chance to sip\, chat\, and connect with fellow HR indies. \nSee you there!
URL:https://hrindependents.co.uk/event/hri-coffee-connect-12092025/
LOCATION:Online
CATEGORIES:Networking
ATTACH;FMTTYPE=image/png:https://hrindependents.co.uk/app/uploads/2024/12/HRi-Coffee-and-Connect-2.png
END:VEVENT
BEGIN:VEVENT
DTSTART;TZID=UTC:20250919T110000
DTEND;TZID=UTC:20250919T113000
DTSTAMP:20260419T210629
CREATED:20250820T193321Z
LAST-MODIFIED:20250820T193321Z
UID:13173-1758279600-1758281400@hrindependents.co.uk
SUMMARY:HRi Coffee & Connect
DESCRIPTION:Your weekly rendezvous with the HR indies community! \nJoin us for HRi Coffee & Connect\, your weekly rendezvous to meet with your fellow HR indies. \nGrab your favourite cup of coffee or beverage\, settle into your comfy space and enjoy a half-hour of casual networking and insightful conversations with your fellow HR indies. \nRegister \nWhether you’re an HR and People Pro or just starting your journey\, HRi Coffee & Connect is the ideal Friday pick-me-up to energise and recharge. This is your chance to connect with like-minded peers\, share experiences\, and expand your professional network in a relaxed yet enriching environment. \nDon’t miss out on this chance to sip\, chat\, and connect with fellow HR indies. \n 
URL:https://hrindependents.co.uk/event/hri-coffee-connect-19092025/
LOCATION:Online
CATEGORIES:Networking
ATTACH;FMTTYPE=image/png:https://hrindependents.co.uk/app/uploads/2024/12/HRi-Coffee-and-Connect-2.png
END:VEVENT
END:VCALENDAR