BEGIN:VCALENDAR
VERSION:2.0
PRODID:-//HRi - ECPv6.10.3//NONSGML v1.0//EN
CALSCALE:GREGORIAN
METHOD:PUBLISH
X-WR-CALNAME:HRi
X-ORIGINAL-URL:https://hrindependents.co.uk
X-WR-CALDESC:Events for HRi
REFRESH-INTERVAL;VALUE=DURATION:PT1H
X-Robots-Tag:noindex
X-PUBLISHED-TTL:PT1H
BEGIN:VTIMEZONE
TZID:UTC
BEGIN:STANDARD
TZOFFSETFROM:+0000
TZOFFSETTO:+0000
TZNAME:UTC
DTSTART:20250101T000000
END:STANDARD
END:VTIMEZONE
BEGIN:VEVENT
DTSTART;TZID=UTC:20250307T110000
DTEND;TZID=UTC:20250307T113000
DTSTAMP:20260419T162303
CREATED:20241205T194043Z
LAST-MODIFIED:20241205T194043Z
UID:12551-1741345200-1741347000@hrindependents.co.uk
SUMMARY:HRi Coffee & Connect
DESCRIPTION:Your weekly rendezvous with the HR indies community!\nJoin us for HRi Coffee & Connect\, your weekly rendezvous to meet with your fellow HR indies. \nGrab your favourite cup of coffee or beverage\, settle into your comfy space and enjoy a half-hour of casual networking and insightful conversations with your fellow HR indies. \nRegister \nWhether you’re an HR and People Pro or just starting your journey\, HRi Coffee & Connect is the ideal Friday pick-me-up to energise and recharge. This is your chance to connect with like-minded peers\, share experiences\, and expand your professional network in a relaxed yet enriching environment. \nDon’t miss out on this chance to sip\, chat\, and connect with fellow HR indies. \nSee you there!
URL:https://hrindependents.co.uk/event/hri-coffee-connect-07032025/
LOCATION:Online
CATEGORIES:Networking
ATTACH;FMTTYPE=image/png:https://hrindependents.co.uk/app/uploads/2024/03/HRi-Coffee-and-Connect-2.png
END:VEVENT
BEGIN:VEVENT
DTSTART;TZID=UTC:20250314T110000
DTEND;TZID=UTC:20250314T113000
DTSTAMP:20260419T162303
CREATED:20241205T194503Z
LAST-MODIFIED:20241205T194503Z
UID:12553-1741950000-1741951800@hrindependents.co.uk
SUMMARY:HRi Coffee & Connect
DESCRIPTION:Connect\, Recharge\, and Network with HR Indies\nLooking for a refreshing way to end your week? HRi Coffee & Connect is here to bring the HR indies community together every Friday. \nPour yourself a cup of your favourite drink\, find your cosy spot\, and spend 30 minutes with fellow HR and People professionals. It’s your time to relax\, share insights\, and enjoy meaningful conversations in a friendly and supportive space. \nRegister \nWhether you’re a seasoned expert or just stepping into the HR world\, Coffee & Connect is your chance to exchange ideas\, expand your network\, and leave feeling energised for the days ahead. \nSo\, grab your mug and join the conversation—this is where HR indies come together! \nWe can’t wait to see you there.
URL:https://hrindependents.co.uk/event/hri-coffee-connect-5/
LOCATION:Online
CATEGORIES:Networking
ATTACH;FMTTYPE=image/png:https://hrindependents.co.uk/app/uploads/2024/03/HRi-Coffee-Connect-1.png
END:VEVENT
BEGIN:VEVENT
DTSTART;TZID=UTC:20250319T120000
DTEND;TZID=UTC:20250319T124500
DTSTAMP:20260419T162303
CREATED:20250303T203111Z
LAST-MODIFIED:20250304T101121Z
UID:12784-1742385600-1742388300@hrindependents.co.uk
SUMMARY:Hiring and Supporting a Neuroinclusive Workforce
DESCRIPTION:About Hiring and Supporting a Neuroinclusive Workforce\nIn partnership with Talent Seeker\, we will be joined by Matthew Edge-Wilkins of Talent Seeker and Naomi Charlton from Autism Unlimited. This interactive webinar will be providing attendees with an opportunity to strengthen their understanding of neurodiversity and the importance of neurodiversity in the workplace. With 1 in 5 people in the UK currently diagnosed as neurodivergent\, they will discuss: \n\nThe challenges of disclosure\nHow to design an inclusive recruitment campaign and\nThe importance of workplace adjustments to establish an optimum workplace environment\n\nKey Takeaways\nBy attending this session\, you will: \n\nStrengthen your understanding of neurodiversity and the neurodivergent experience\nLearn the importance of developing inclusive communication techniques\nRecognise the importance of workplace adjustments\n\nRegister \n  \nSpeakers\nMatthew Edge-Wilkins – Founder of Talent Seeker\, a specialist HR & Marketing Headhunting firm in Hampshire. Matt has over 20 years’ recruitment and headhunting experience. Matt also partners with a number independent HR Consultants\, providing recruitment and headhunting support to their clients \nNaomi Charlton – Training Business Developer at Autism Unlimited and has over 20 years’ experience in partnerships\, business development training and marketing. Established in 1968\, Autism Unlimited is a specialist autism charity focused on supporting neurodivergent individuals. The Charity is passionate about changing the perception of neurodiversity through providing bespoke training opportunities to businesses and raising awareness of neurodiversity in the workplace. \n  \n  \nTestimonials\n“I can’t speak highly enough about the service you provide. Refreshingly professional and supportive.” Paula Gay\, Head of HR\, The Goldsmith’s Company\n“Occupational Health Assessment Ltd have been extremely supportive of Xtrac with their Occupational Health services. They are responsive\, thorough and provide the guidance we require.” Kirsty Knight\, Head of HR\, Xtrac Ltd \n  \nRegister
URL:https://hrindependents.co.uk/event/hiring-and-supporting-a-neuroinclusive-workforce/
LOCATION:Online
ATTACH;FMTTYPE=image/png:https://hrindependents.co.uk/app/uploads/2025/03/Hiring-Supporting-a-Neuroinclusive-Workforce.png
END:VEVENT
BEGIN:VEVENT
DTSTART;TZID=UTC:20250321T110000
DTEND;TZID=UTC:20250321T113000
DTSTAMP:20260419T162303
CREATED:20241205T194845Z
LAST-MODIFIED:20241205T194845Z
UID:12555-1742554800-1742556600@hrindependents.co.uk
SUMMARY:HRi Coffee and Connect
DESCRIPTION:Your weekly rendezvous with the HR indies community!\nJoin us for HRi Coffee & Connect\, your weekly rendezvous to meet with your fellow HR indies. \nGrab your favourite cup of coffee or beverage\, settle into your comfy space and enjoy a half-hour of casual networking and insightful conversations with your fellow HR indies. \n  \nRegister \n  \nWhether you’re an HR and People Pro or just starting your journey\, HRi Coffee & Connect is the ideal Friday pick-me-up to energise and recharge. This is your chance to connect with like-minded peers\, share experiences\, and expand your professional network in a relaxed yet enriching environment. \nDon’t miss out on this chance to sip\, chat\, and connect with fellow HR indies. \nSee you there!
URL:https://hrindependents.co.uk/event/hri-coffee-and-connect-2/
LOCATION:Online
CATEGORIES:Networking
ATTACH;FMTTYPE=image/png:https://hrindependents.co.uk/app/uploads/2024/03/HRi-Coffee-and-Connect-3.png
END:VEVENT
BEGIN:VEVENT
DTSTART;TZID=UTC:20250326T120000
DTEND;TZID=UTC:20250326T130000
DTSTAMP:20260419T162303
CREATED:20250303T204732Z
LAST-MODIFIED:20250303T204732Z
UID:12792-1742990400-1742994000@hrindependents.co.uk
SUMMARY:Setting up Your HR and People Consultancy
DESCRIPTION:About Setting up Your HR and People Consultancy\nSetting up Your HR and People Consultancy\nJoin our 1-hour webinar where we’ll guide you through the essential steps on setting up and running your HR and People consultancy. Gain practical tips on defining your services\, establishing pricing\, and implementing effective marketing strategies. \n  \nWhat to expect:\n\nConsultancy Basics: What and to whom are you offering?\nTop tips on pricing\, product creation\, and income streams.\nStanding out: Get guidance on standing out in the competitive market.\n\n  \nRegister \n  \nAbout the speaker\nMary Asante is the CEO of HRi and specialises in Executive Coaching\, Leadership Development and Strategic HR. With over two decades of experience\, she advises and coaches businesses on leadership development\, people management and strategy. Mary is passionate about empowering HR and People professionals to advance their careers and businesses. \nShe is a Chartered Fellow of CIPD\, fellow of the Institute of Leadership and an accredited HRi Platinum member. \n \nRegister
URL:https://hrindependents.co.uk/event/setting-up-your-hr-and-people-consultancy-2/
LOCATION:Online
CATEGORIES:Business
ATTACH;FMTTYPE=image/png:https://hrindependents.co.uk/app/uploads/2025/03/Setting-up-HR-and-People-Consultancy.png
END:VEVENT
BEGIN:VEVENT
DTSTART;TZID=UTC:20250328T110000
DTEND;TZID=UTC:20250328T113000
DTSTAMP:20260419T162303
CREATED:20241205T195236Z
LAST-MODIFIED:20250325T102449Z
UID:12557-1743159600-1743161400@hrindependents.co.uk
SUMMARY:HRi Coffee and Connect
DESCRIPTION:Your weekly rendezvous with the HR indies community!\nJoin us for HRi Coffee & Connect\, your weekly rendezvous to meet with your fellow HR indies. \nGrab your favourite cup of coffee or beverage\, settle into your comfy space and enjoy a half-hour of casual networking and insightful conversations with your fellow HR indies. \n  \nRegister \n  \nWhether you’re an HR and People Pro or just starting your journey\, HRi Coffee & Connect is the ideal Friday pick-me-up to energise and recharge. This is your chance to connect with like-minded peers\, share experiences\, and expand your professional network in a relaxed yet enriching environment. \nDon’t miss out on this chance to sip\, chat\, and connect with fellow HR indies. \nSee you there!
URL:https://hrindependents.co.uk/event/hri-coffee-and-connect-28032025/
LOCATION:Online
CATEGORIES:Networking
ATTACH;FMTTYPE=image/png:https://hrindependents.co.uk/app/uploads/2024/12/HRi-Coffee-and-Connect-2.png
END:VEVENT
END:VCALENDAR