BEGIN:VCALENDAR
VERSION:2.0
PRODID:-//HRi - ECPv6.10.3//NONSGML v1.0//EN
CALSCALE:GREGORIAN
METHOD:PUBLISH
X-WR-CALNAME:HRi
X-ORIGINAL-URL:https://hrindependents.co.uk
X-WR-CALDESC:Events for HRi
REFRESH-INTERVAL;VALUE=DURATION:PT1H
X-Robots-Tag:noindex
X-PUBLISHED-TTL:PT1H
BEGIN:VTIMEZONE
TZID:UTC
BEGIN:STANDARD
TZOFFSETFROM:+0000
TZOFFSETTO:+0000
TZNAME:UTC
DTSTART:20230101T000000
END:STANDARD
END:VTIMEZONE
BEGIN:VEVENT
DTSTART;TZID=UTC:20231206T100000
DTEND;TZID=UTC:20231206T110000
DTSTAMP:20260419T145227
CREATED:20231002T112744Z
LAST-MODIFIED:20231002T112744Z
UID:8777-1701856800-1701860400@hrindependents.co.uk
SUMMARY:Employment Law Overview 2023
DESCRIPTION:About Employment Law Overview 2023\nThe HRi team are delighted to be joined by Amanda Trewhella and Lynne Ingram of our legal partner\, Freeths for a webinar providing an overview of the important developments that have taken place to employment law over the past year. \n  \nThere’s been a lot of legal updates throughout 2023 so join us as Amanda and Lynne provide a summary of the key changes we’ll need to take with us into 2024 and beyond. \nThis free webinar will take place on Zoom\, full details will be included in your booking confirmation. \nRegister to Attend \nOur Speakers
URL:https://hrindependents.co.uk/event/employment-law-overview-2023/
LOCATION:Via Zoom\, United Kingdom
ATTACH;FMTTYPE=image/png:https://hrindependents.co.uk/app/uploads/2023/10/Freeths-Employment-Law-2023-Overview-hero.png
END:VEVENT
BEGIN:VEVENT
DTSTART;TZID=UTC:20231214T173000
DTEND;TZID=UTC:20231214T193000
DTSTAMP:20260419T145227
CREATED:20231120T184134Z
LAST-MODIFIED:20231130T115024Z
UID:9242-1702575000-1702582200@hrindependents.co.uk
SUMMARY:Christmas Social 2023 - London
DESCRIPTION:HRi Christmas Social | London\nThursday 14th December @ 17:30 \nJoin us and your fellow HR indies for our in-person Christmas Social ? to mark the beginning of the festive period. Let’s celebrate the spirit of the season together! Connect with fellow independent HR and People professionals and enjoy great conversations\, networking and seasonal refreshments. \nRegister \nMark your calendars for a joyful celebration at the Christmas Social 2023\, hosted in the heart of London by our legal partner\, Freeths LLP. Wear whatever makes you comfortable (Christmas jumpers welcomed!) and let’s create lasting memories together. Spread the holiday spirit and make lasting memories at our Christmas Social 2023. \nWe can’t wait to celebrate with you! \nRegister
URL:https://hrindependents.co.uk/event/christmas-social-2023-london/
LOCATION:Freeths London\, 1 Vine Street\, London\, W1J 0AH\, United Kingdom
ATTACH;FMTTYPE=image/png:https://hrindependents.co.uk/app/uploads/2023/11/HRi-Christmas-Social-London-hero-.png
END:VEVENT
BEGIN:VEVENT
DTSTART;TZID=UTC:20231218T173000
DTEND;TZID=UTC:20231218T193000
DTSTAMP:20260419T145227
CREATED:20231130T115128Z
LAST-MODIFIED:20231130T115128Z
UID:9374-1702920600-1702927800@hrindependents.co.uk
SUMMARY:Christmas Social 2023 - Birmingham
DESCRIPTION:HRi Christmas Social | Birmingham\nMonday 18th December @ 17:30 \nJoin us and your fellow HR indies for our in-person Christmas Social ? to mark the beginning of the festive period. Let’s celebrate the spirit of the season together! Connect with fellow independent HR and People professionals and enjoy great conversations\, networking and seasonal refreshments. \nRegister \nMark your calendars for a joyful celebration at the Christmas Social 2023\, hosted in the heart of Birmingham by our legal partner\, Freeths LLP. Wear whatever makes you comfortable (Christmas jumpers welcomed!) and let’s create lasting memories together. Spread the holiday spirit and make lasting memories at our Christmas Social 2023. \nWe can’t wait to celebrate with you! \nRegister
URL:https://hrindependents.co.uk/event/christmas-social-2023-birmingham/
LOCATION:Freeths Birmingham\, 3rd Floor\, The Colmore Building\, 20 Colmore Circus\, Queensway\, Birmingham\, B4 6AT\, United Kingdom
ATTACH;FMTTYPE=image/png:https://hrindependents.co.uk/app/uploads/2023/11/HRi-Christmas-Social-Birmingham-hero.png
END:VEVENT
END:VCALENDAR