BEGIN:VCALENDAR
VERSION:2.0
PRODID:-//HRi - ECPv6.10.3//NONSGML v1.0//EN
CALSCALE:GREGORIAN
METHOD:PUBLISH
X-ORIGINAL-URL:https://hrindependents.co.uk
X-WR-CALDESC:Events for HRi
REFRESH-INTERVAL;VALUE=DURATION:PT1H
X-Robots-Tag:noindex
X-PUBLISHED-TTL:PT1H
BEGIN:VTIMEZONE
TZID:UTC
BEGIN:STANDARD
TZOFFSETFROM:+0000
TZOFFSETTO:+0000
TZNAME:UTC
DTSTART:20230101T000000
END:STANDARD
END:VTIMEZONE
BEGIN:VEVENT
DTSTART;TZID=UTC:20230622T120000
DTEND;TZID=UTC:20230622T130000
DTSTAMP:20260419T193541
CREATED:20230529T204958Z
LAST-MODIFIED:20230602T112504Z
UID:7867-1687435200-1687438800@hrindependents.co.uk
SUMMARY:The AI Revolution is Coming to HR - are you ready?
DESCRIPTION:22 June @ 12:00 – 13:00 \nAbout\nHaving recently seen Karen in action at a networking event\, we are delighted she has agreed to host a session on AI revolution for the HR/People Consultants community. \nWhether you’re already embracing AI\, a little unsure or have no knowledge at all\, this insightful session is not to be missed! \nKaren will explain how AI is bringing about the fourth industrial revolution. She’ll give an overview of the current state of AI\, to support you to plan for the future. \n  \nREGISTER TO ATTEND \n  \nKaren’s session will cover the below:\n\nHeadlines shout about a ‘jobs apocalypse’ – as Consultants\, how worried do we need to be?\nWhat jobs are likely to be replaced by AI and which will survive?\nHow can we use AI to enhance our business productivity?\nDo we need to worry about AI getting out of control?\n\nWe’ll have plenty of time for a Q&A too. \n  \nREGISTER TO ATTEND \n  \nAbout The Presenter\nKaren Young is the founder of Ethos\, the ethical PPC agency\, based in Surrey. Ethos helps companies get more leads and sales through Google Ads\, Microsoft Ads and LinkedIn Ads\, taking an AI and Analytics-driven approach. Ethos also work with charities to help them get the most from their Google Grant. Not sure if PPC will work for you? They’ll give you a free\, honest opinion. Their ultimate objective is to maximise returns for you. Not Google. Ethos is a certified Google Partner. \n \n  \n  \n  \nREGISTER TO ATTEND \n  \n  \nTestimonials\n“Ethos Metrics are by far the best PPC specialists I have come across. Having worked with Karen and the team for years on various small business client PPC strategies alongside my Marketing Consultancy\, I can highly recommend this very experienced\, and dedicated team. They are hugely committed to doing the very best for their clients\, transparent in all activities\, skilled at optimisation and forthcoming with pro-active proposals to continually better results. If you are running PPC for your business\, Ethos should be your go-to partner.” \nKaran Hopper Director\, Kameleon Marketing \n  \n“Karen and her team were a different class than we had previously experienced. In addition to her (and her team’s) in depth knowledge she communicated clearly and effectively and really knows her stuff. Highly recommend particularly as our brief wasn’t straightforward.” \nNicholas Kent\, Co-Owner\, Aveso
URL:https://hrindependents.co.uk/event/the-ai-revolution-is-coming-to-hr-are-you-ready/
LOCATION:Via Zoom\, United Kingdom
ATTACH;FMTTYPE=image/png:https://hrindependents.co.uk/app/uploads/2023/05/AI-Revolution-hero-1.png
END:VEVENT
END:VCALENDAR