BEGIN:VCALENDAR
VERSION:2.0
PRODID:-//HRi - ECPv6.10.3//NONSGML v1.0//EN
CALSCALE:GREGORIAN
METHOD:PUBLISH
X-WR-CALNAME:HRi
X-ORIGINAL-URL:https://hrindependents.co.uk
X-WR-CALDESC:Events for HRi
REFRESH-INTERVAL;VALUE=DURATION:PT1H
X-Robots-Tag:noindex
X-PUBLISHED-TTL:PT1H
BEGIN:VTIMEZONE
TZID:UTC
BEGIN:STANDARD
TZOFFSETFROM:+0000
TZOFFSETTO:+0000
TZNAME:UTC
DTSTART:20230101T000000
END:STANDARD
END:VTIMEZONE
BEGIN:VEVENT
DTSTART;TZID=UTC:20230517T120000
DTEND;TZID=UTC:20230517T130000
DTSTAMP:20260419T143409
CREATED:20230421T101912Z
LAST-MODIFIED:20230421T102030Z
UID:7538-1684324800-1684328400@hrindependents.co.uk
SUMMARY:Using Instagram to Grow your HR Consultancy Business
DESCRIPTION:17 May @ 12:00-13:00 \nThis session will help you with some of the basic “how to” for using Instagram for your HR consultancy business. \nIn this one-hour session\, you will discover: \n\nWho is your target audience?\nWhat are content pillars?\nWhat content should you share?\nExplanation about types of content – Posts\, Carousels\, Stories\, Lives and Reels\nBasics of putting together a Reel\nHow to measure your success – looking at your Insights\n\n  \nREGISTER TO ATTEND \n  \nAbout the presenter\nKatie has been a self-employed HR consultant for 2 years\, having launched her business via Instagram in March 2021. \nShe was absolutely thrilled to have been shortlisted as a Finalist for the HRi Award for Emerging Talent in September 2022! One of the main reasons given by the judges for choosing Katie as a finalist was her approach to social media\, particularly Instagram. Katie uses her platform to show the personal\, lighter side of HR\, mixing this with lots of useful HR content for her followers. \n \nREGISTER TO ATTEND
URL:https://hrindependents.co.uk/event/using-instagram-to-grow-your-hr-consultancy-business/
LOCATION:Via Zoom\, United Kingdom
ATTACH;FMTTYPE=image/png:https://hrindependents.co.uk/app/uploads/2023/04/Using-Instagram-to-Grow-your-HR-Consultancy-Business-website-banner-.png
END:VEVENT
END:VCALENDAR