BEGIN:VCALENDAR
VERSION:2.0
PRODID:-//HRi - ECPv6.10.3//NONSGML v1.0//EN
CALSCALE:GREGORIAN
METHOD:PUBLISH
X-WR-CALNAME:HRi
X-ORIGINAL-URL:https://hrindependents.co.uk
X-WR-CALDESC:Events for HRi
REFRESH-INTERVAL;VALUE=DURATION:PT1H
X-Robots-Tag:noindex
X-PUBLISHED-TTL:PT1H
BEGIN:VTIMEZONE
TZID:UTC
BEGIN:STANDARD
TZOFFSETFROM:+0000
TZOFFSETTO:+0000
TZNAME:UTC
DTSTART:20230101T000000
END:STANDARD
END:VTIMEZONE
BEGIN:VEVENT
DTSTART;TZID=UTC:20230301T120000
DTEND;TZID=UTC:20230301T130000
DTSTAMP:20260422T203711
CREATED:20230201T000043Z
LAST-MODIFIED:20230213T192307Z
UID:6974-1677672000-1677675600@hrindependents.co.uk
SUMMARY:Business Growth Opportunities
DESCRIPTION:Business Growth Opportunities\, a roundtable discussion to discuss and share business development channels to drive new business. \n1st March 2023 @12:00-13:00 \n  \nAbout Business Growth Opportunities\nHosted by HRi director\, Mary Asante\, this roundtable discussion brings together HR independents to discuss new business development opportunities. This is an opportunity to share\, discuss and brainstorm what business development channels and tactics help drive new business. \nNetwork with fellow HR indies and discuss how best to generate new business opportunities. \nREGISTER TO ATTEND \n  \nWho should attend?\nThis event is for all HR independent consultants running their own business actively seeking new business opportunities. \n  \nWhy attend?\nAttending this event will give you the opportunity to network with fellow HR indies and gain an insight into ideas and ways of developing and growing your HR consultancy business. You will have the opportunity to seek advice and feedback from fellow consultants. \nJoin us se we can achieve #SuccessTogether \n  \nFee: \nHRi Members: Free\nNon-HRi Members: £15.00 \n  \nREGISTER TO ATTEND
URL:https://hrindependents.co.uk/event/business-growth-opportunities/
LOCATION:Via Zoom\, United Kingdom
ATTACH;FMTTYPE=image/png:https://hrindependents.co.uk/app/uploads/2023/01/Business-Growth-Opportunities-Roundtable-2023.png
END:VEVENT
END:VCALENDAR