BEGIN:VCALENDAR
VERSION:2.0
PRODID:-//HRi - ECPv6.10.3//NONSGML v1.0//EN
CALSCALE:GREGORIAN
METHOD:PUBLISH
X-ORIGINAL-URL:https://hrindependents.co.uk
X-WR-CALDESC:Events for HRi
REFRESH-INTERVAL;VALUE=DURATION:PT1H
X-Robots-Tag:noindex
X-PUBLISHED-TTL:PT1H
BEGIN:VTIMEZONE
TZID:UTC
BEGIN:STANDARD
TZOFFSETFROM:+0000
TZOFFSETTO:+0000
TZNAME:UTC
DTSTART:20210101T000000
END:STANDARD
END:VTIMEZONE
BEGIN:VEVENT
DTSTART;TZID=UTC:20211215T110000
DTEND;TZID=UTC:20211215T120000
DTSTAMP:20260421T190515
CREATED:20211103T123924Z
LAST-MODIFIED:20211103T123924Z
UID:4823-1639566000-1639569600@hrindependents.co.uk
SUMMARY:HRi Christmas Social (Members only)
DESCRIPTION:It’s that time of the year again! Join us for our exclusive HRi Member Virtual Christmas Party\n\n\n\n\n\nAbout this event\n\n\nTo mark the beginning of the festive period\, we are inviting all our HRi Members to join us for a virtual Christmas get-together. ? \nThe theme this year is Coffee and Mince pie\, but if you are feeling more bubbly… bring along some of that\, too! ? \n  \nHope to see you all for some festive fun! \n\n  \n\nPlease note this event is for HRi Silver\, Gold and Platinum members only. 
URL:https://hrindependents.co.uk/event/hri-christmas-social-members-only/
LOCATION:Via Zoom\, United Kingdom
ATTACH;FMTTYPE=image/png:https://hrindependents.co.uk/app/uploads/2021/11/Untitled-design-12.png
END:VEVENT
END:VCALENDAR