BEGIN:VCALENDAR
VERSION:2.0
PRODID:-//HRi - ECPv6.10.3//NONSGML v1.0//EN
CALSCALE:GREGORIAN
METHOD:PUBLISH
X-WR-CALNAME:HRi
X-ORIGINAL-URL:https://hrindependents.co.uk
X-WR-CALDESC:Events for HRi
REFRESH-INTERVAL;VALUE=DURATION:PT1H
X-Robots-Tag:noindex
X-PUBLISHED-TTL:PT1H
BEGIN:VTIMEZONE
TZID:UTC
BEGIN:STANDARD
TZOFFSETFROM:+0000
TZOFFSETTO:+0000
TZNAME:UTC
DTSTART:20210101T000000
END:STANDARD
END:VTIMEZONE
BEGIN:VEVENT
DTSTART;TZID=UTC:20210916T100000
DTEND;TZID=UTC:20210916T110000
DTSTAMP:20260423T151958
CREATED:20210704T090045Z
LAST-MODIFIED:20210704T091314Z
UID:4505-1631786400-1631790000@hrindependents.co.uk
SUMMARY:The hidden dynamics of team performance
DESCRIPTION:Leadership author Jude Jennison reveals the 12 hidden dynamics that occur in every team\, explores the common problems that occur in teams and explains how to lead change more effectively. \n\n\n\n\n\n\nAbout this event\n\n\nHow do you align your senior leadership team for fast-paced change? \n  \nIn today’s hybrid workplaces\, keeping a team aligned and connected requires new ways of leading and communicating. Teams have become more disconnected and fragmented thanks to remote working and stress caused by the uncertainty of the pandemic. Teams are made up of brilliant individuals but the quality of the relationships and communication within the team can accelerate or hinder commercial success. \nIn this webinar\, leadership and team performance author and coach\, Jude Jennison\, draws on a decade of exploring non-verbal behaviour in senior leaders and teams to reveal the hidden dynamics that occur in every team and sabotage performance. \n  \nThis webinar will cover:\n• Understand how non-verbal behaviour influences relationships and results \n• Discover the critical problems that derail even the best of teams and how to overcome them \n• Explore 12 hidden dynamics of team performance\, including: \no The Organisation model – 3 team roles that are critical to align a team \no The Pillars of vitality – 3 ways to create vitality in the team under pressure \no The Understanding approach – 3 levels of non-verbal awareness that increase understanding of different approaches \no The Stories blueprint – 3 unconscious stories that everyone tells themselves that impact relationships and cause division
URL:https://hrindependents.co.uk/event/the-hidden-dynamics-of-team-performance/
LOCATION:Via Zoom\, United Kingdom
ATTACH;FMTTYPE=image/jpeg:https://hrindependents.co.uk/app/uploads/2021/07/hri-jude.jpg
END:VEVENT
END:VCALENDAR