BEGIN:VCALENDAR
VERSION:2.0
PRODID:-//HRi - ECPv6.10.3//NONSGML v1.0//EN
CALSCALE:GREGORIAN
METHOD:PUBLISH
X-ORIGINAL-URL:https://hrindependents.co.uk
X-WR-CALDESC:Events for HRi
REFRESH-INTERVAL;VALUE=DURATION:PT1H
X-Robots-Tag:noindex
X-PUBLISHED-TTL:PT1H
BEGIN:VTIMEZONE
TZID:UTC
BEGIN:STANDARD
TZOFFSETFROM:+0000
TZOFFSETTO:+0000
TZNAME:UTC
DTSTART:20210101T000000
END:STANDARD
END:VTIMEZONE
BEGIN:VEVENT
DTSTART;TZID=UTC:20210308T123000
DTEND;TZID=UTC:20210308T133000
DTSTAMP:20260421T203052
CREATED:20210215T162613Z
LAST-MODIFIED:20210215T162630Z
UID:3629-1615206600-1615210200@hrindependents.co.uk
SUMMARY:A Very Human Take on the Gender Pay Gap: “Salty man snacks”\, muddy girls and the rain in Spain
DESCRIPTION:Who is it for?  \nProfessionals working in\, or interested in\, diversity and inclusion at work – in particular closing gender gaps\, gender equality and intersectionality. \nAbout the presenter/business:  \nCat Wildman is the award-winning co-founder of the Global Equality Collective (www.thegec.org/app). She is a woman in STEM\, a thought leader and speaker on gender equality\, diversity and inclusion in business\, and a mother of 3.  \nWhat you will get from the session:  \nWhy are gender stereotypes so handy to humans? Let me take you on an eyebrow-raising journey through childhood and we’ll track the FIVE gender gaps that have already formed before you have ever set foot in the workplace. \n Then\, we’ll take a close look at the THREE gender gaps that form once we’re there. Get a deeper\, more human understanding of the ‘whys’ behind gender gaps and how to spot them\, understand them – and tackle them with confidence.  \nTestimonials/ recommendations:  \n“Totally eye opening” Westminster City Council
URL:https://hrindependents.co.uk/event/a-very-human-take-on-the-gender-pay-gap-salty-man-snacks-muddy-girls-and-the-rain-in-spain/
LOCATION:Via Zoom\, United Kingdom
ATTACH;FMTTYPE=image/jpeg:https://hrindependents.co.uk/app/uploads/2021/02/GEC_Stack_black_DIGITAL.jpg
END:VEVENT
END:VCALENDAR