BEGIN:VCALENDAR
VERSION:2.0
PRODID:-//HRi - ECPv6.10.3//NONSGML v1.0//EN
CALSCALE:GREGORIAN
METHOD:PUBLISH
X-WR-CALNAME:HRi
X-ORIGINAL-URL:https://hrindependents.co.uk
X-WR-CALDESC:Events for HRi
REFRESH-INTERVAL;VALUE=DURATION:PT1H
X-Robots-Tag:noindex
X-PUBLISHED-TTL:PT1H
BEGIN:VTIMEZONE
TZID:UTC
BEGIN:STANDARD
TZOFFSETFROM:+0000
TZOFFSETTO:+0000
TZNAME:UTC
DTSTART:20210101T000000
END:STANDARD
END:VTIMEZONE
BEGIN:VEVENT
DTSTART;TZID=UTC:20210305T140000
DTEND;TZID=UTC:20210305T150000
DTSTAMP:20260421T202812
CREATED:20210219T154336Z
LAST-MODIFIED:20210222T112554Z
UID:3693-1614952800-1614956400@hrindependents.co.uk
SUMMARY:Remote appraisals - how to redesign your process so it’s fit for purpose in 2021
DESCRIPTION:About this topic: \nThe annual performance review process has been on death row for years but is still with us. Many claim to have re-invented it but is it just old wine in new bottles?  \nWhat is a feedback loop or an informal check in or a rapid-fire debrief? Join this interactive and informative webinar led by the multi talented Lucinda Carney and gain new perspective\, ideas and insight. \nAbout the host: \nLucinda is a Chartered Psychologist with 20 years Corporate HR experience. She is considered a thought leader in a range of people management and change related business topics. Lucinda is the Founder and CEO of Actus Performance Management Software which was launched in 2009 and has since gone from strength to strength with more than 70\,000 users across the globe.  \nLucinda is an accomplished Speaker\, Consultant and Coach. She was named ‘Everywoman Tech Entrepreneur of the Year in 2016’ and ‘Winner of one of the UK’s top 10 Women in Business 2020’ by Business Gamechanger magazine. Lucinda hosts the No 1 ranking Podcast ‘The HRUprising and her book “How to be a Change Superhero” was published in May 2020 reaching number one bestseller status in multiple Amazon categories : \nAccreditations and Skills  \nChartered Psychologist and CIPD  \nHenley Certificate in Coaching  \nLevel ‘A’ & ‘B’ Testing  \nNLP Practitioner  \nSHL 360 feedback accreditation  \nDesign and delivery of Assessment Centres  \nQualified in various psychometrics including MBTI; OPQ; Firo-B; SDI; Belbin and Insights
URL:https://hrindependents.co.uk/event/remote-appraisals-how-to-redesign-your-process-so-its-fit-for-purpose-in-2021/
LOCATION:Via Zoom\, United Kingdom
ATTACH;FMTTYPE=image/png:https://hrindependents.co.uk/app/uploads/2020/04/actus.png
END:VEVENT
END:VCALENDAR