BEGIN:VCALENDAR
VERSION:2.0
PRODID:-//HRi - ECPv6.10.3//NONSGML v1.0//EN
CALSCALE:GREGORIAN
METHOD:PUBLISH
X-ORIGINAL-URL:https://hrindependents.co.uk
X-WR-CALDESC:Events for HRi
REFRESH-INTERVAL;VALUE=DURATION:PT1H
X-Robots-Tag:noindex
X-PUBLISHED-TTL:PT1H
BEGIN:VTIMEZONE
TZID:UTC
BEGIN:STANDARD
TZOFFSETFROM:+0000
TZOFFSETTO:+0000
TZNAME:UTC
DTSTART:20210101T000000
END:STANDARD
END:VTIMEZONE
BEGIN:VEVENT
DTSTART;TZID=UTC:20210225T113000
DTEND;TZID=UTC:20210225T133000
DTSTAMP:20260419T143712
CREATED:20210106T174123Z
LAST-MODIFIED:20210106T174635Z
UID:3190-1614252600-1614259800@hrindependents.co.uk
SUMMARY:Masterclass on Data Protection and Security for HR Consultancy Businesses
DESCRIPTION:Are you an independent consultant who runs your own business? Do you know the key data protection and security essentials to have in place to protect your business and your clients or do you hope for the best that your current approach is ok. Getting this wrong will come at a high price in terms of stress\, reputational damage and the time and cost to sort it out.  \nThis masterclass is led by Mary Asante\, who runs and HR Consultancy business and is also Certified Information Security Manager (CISM) and a member of ISACA. She is an ISO/IEC 27001:2013 Information Security Management Systems lead auditor and has extensive Information Assurance and Cyber Security experience in providing security solutions for critical business systems in a variety of environments.  \nJoin us to understand the key steps\, simple systems and documentation you need to have in place to feel reassured you are managing data protection and security in your business well.  \nWhat you will get from the session:  \nPractical tips in managing data within your business or organisation \nUnderstanding cyber security posture of your independent HR business or organisation \nClarity on any Data protection issues  \nHRi Data and Information Management Standards & template documents (if HRi member)
URL:https://hrindependents.co.uk/event/masterclass-on-data-protection-and-security-for-hr-consultancy-businesses/
ATTACH;FMTTYPE=image/jpeg:https://hrindependents.co.uk/app/uploads/2020/09/HRI_blue_RGB_-square.jpg
END:VEVENT
END:VCALENDAR