BEGIN:VCALENDAR
VERSION:2.0
PRODID:-//HRi - ECPv6.10.3//NONSGML v1.0//EN
CALSCALE:GREGORIAN
METHOD:PUBLISH
X-WR-CALNAME:HRi
X-ORIGINAL-URL:https://hrindependents.co.uk
X-WR-CALDESC:Events for HRi
REFRESH-INTERVAL;VALUE=DURATION:PT1H
X-Robots-Tag:noindex
X-PUBLISHED-TTL:PT1H
BEGIN:VTIMEZONE
TZID:UTC
BEGIN:STANDARD
TZOFFSETFROM:+0000
TZOFFSETTO:+0000
TZNAME:UTC
DTSTART:20210101T000000
END:STANDARD
END:VTIMEZONE
BEGIN:VEVENT
DTSTART;TZID=UTC:20210224T123000
DTEND;TZID=UTC:20210224T133000
DTSTAMP:20260421T165423
CREATED:20210121T134811Z
LAST-MODIFIED:20210121T135842Z
UID:3306-1614169800-1614173400@hrindependents.co.uk
SUMMARY:How to choose the perfect social network plus learn the secrets of engaging content
DESCRIPTION:About the presenter/business:  \nJonathan Pollinger \n• 11 years as a Social Media Trainer \n• Over 100 recommendations on LinkedIn \n• Mainly small business clients but also PR Agencies\, Government and non-profits \nWhat you will get from the session:  \n\nYou’ll learn what you need to consider to choose the right social network for you and your business plus the benefits of the main social networks. Discover what makes some posts and tweets attract more Likes\, Comments and Shares and Retweets than others. Slides and recording will be available after the session.\n\nTestimonials/recommendations:  \n“One of the best trainers I’ve come across in terms of delivery\, professionalism and knowledge’. \n“Jonathan combines precise technical expertise with a tolerant and human approach towards those of us who have been a little slow on the uptake with new media.” \n“Huge enthusiasm and knowledge. Highly recommended and a must for all businesses”
URL:https://hrindependents.co.uk/event/how-to-choose-the-perfect-social-network-plus-learn-the-secrets-of-engaging-content/
LOCATION:Via Zoom\, United Kingdom
ATTACH;FMTTYPE=image/png:https://hrindependents.co.uk/app/uploads/2021/01/180x180pixelsPollinger-logo.png
END:VEVENT
END:VCALENDAR