BEGIN:VCALENDAR
VERSION:2.0
PRODID:-//HRi - ECPv6.10.3//NONSGML v1.0//EN
CALSCALE:GREGORIAN
METHOD:PUBLISH
X-WR-CALNAME:HRi
X-ORIGINAL-URL:https://hrindependents.co.uk
X-WR-CALDESC:Events for HRi
REFRESH-INTERVAL;VALUE=DURATION:PT1H
X-Robots-Tag:noindex
X-PUBLISHED-TTL:PT1H
BEGIN:VTIMEZONE
TZID:Europe/London
BEGIN:DAYLIGHT
TZOFFSETFROM:+0000
TZOFFSETTO:+0100
TZNAME:BST
DTSTART:20200329T010000
END:DAYLIGHT
BEGIN:STANDARD
TZOFFSETFROM:+0100
TZOFFSETTO:+0000
TZNAME:GMT
DTSTART:20201025T010000
END:STANDARD
END:VTIMEZONE
BEGIN:VEVENT
DTSTART;TZID=Europe/London:20201126T123000
DTEND;TZID=Europe/London:20201126T133000
DTSTAMP:20260422T052134
CREATED:20200930T124137Z
LAST-MODIFIED:20201121T002733Z
UID:1675-1606393800-1606397400@hrindependents.co.uk
SUMMARY:Elevator Pitch
DESCRIPTION:You are at a networking event and you have been given 1 minute to introduce your business. How do you deliver an unforgettable clear pitch?  \nHow easy is it for you to introduce yourself and what you offer? What is your value proposition? As a business owner\, every opportunity you get to speak to someone about your business is a chance to showcase your unique selling points (USP). Whether it is at an event\, during the School run\, whilst walking the dog or at your local supermarket.  \nWith most networking events and activities moving online\, it is important to be able to articulate your service and/or product offering to an online audience you may not be familiar with\, in a way that they will remember you when they need your skills and expertise. \nThe webinar will give you useful tips on how to prepare a short speech\, which clearly and succinctly state you and your company offer your clients. You will get a chance to practice your elevator pitch.  \n\nWhat are your unique selling points?\nWhat is your value proposition?\nHow do you introduce yourself and your business in less than 60 seconds
URL:https://hrindependents.co.uk/event/elevator-pitch-hri/
LOCATION:Via Zoom\, United Kingdom
ATTACH;FMTTYPE=image/jpeg:https://hrindependents.co.uk/app/uploads/2020/09/HRI_blue_RGB_-square.2jpg.jpg
END:VEVENT
END:VCALENDAR