BEGIN:VCALENDAR
VERSION:2.0
PRODID:-//HRi - ECPv6.10.3//NONSGML v1.0//EN
CALSCALE:GREGORIAN
METHOD:PUBLISH
X-WR-CALNAME:HRi
X-ORIGINAL-URL:https://hrindependents.co.uk
X-WR-CALDESC:Events for HRi
REFRESH-INTERVAL;VALUE=DURATION:PT1H
X-Robots-Tag:noindex
X-PUBLISHED-TTL:PT1H
BEGIN:VTIMEZONE
TZID:UTC
BEGIN:STANDARD
TZOFFSETFROM:+0000
TZOFFSETTO:+0000
TZNAME:UTC
DTSTART:20200101T000000
END:STANDARD
END:VTIMEZONE
BEGIN:VEVENT
DTSTART;TZID=UTC:20201014T110000
DTEND;TZID=UTC:20201014T123000
DTSTAMP:20260422T065620
CREATED:20200930T121752Z
LAST-MODIFIED:20201005T123013Z
UID:1655-1602673200-1602678600@hrindependents.co.uk
SUMMARY:Employment Law Update/Change Management - Freeths
DESCRIPTION:In these constantly evolving times\, employers need to be poised to embrace the latest developments in order to adapt and overcome. The impact of such change on staff cannot be underestimated and needs to be undertaken sensitively\, fairly and with dignity.  \nHRi is delighted to be joined by Lynne Ingram (Managing Associate) and Fiona Goodman (Managing Associate) from our legal partner Freeths\, for a session focused on the legal framework for managing organizational and business change\, whether through restructuring and redundancies\, business transfers and outsourcing or changing contracts of employment.  \nThe session will cover:  \n• Redundancy – what do employers need to know? The definition of redundancy\, collective consultation\, redundancy and unfair dismissal\, alternatives and redundancy payments  \n• The application of TUPE on a business sale or outsourcing  \n• Changing contracts of employment – how can these be implemented?  \n• Employment tribunals – what are the risks?  \n 
URL:https://hrindependents.co.uk/event/employment-law-update-change-management-freeths/
LOCATION:Via Zoom\, United Kingdom
ATTACH;FMTTYPE=image/jpeg:https://hrindependents.co.uk/app/uploads/2020/09/Freeths_L_CMYK_300dpi.jpg-e1605261203821.jpg
END:VEVENT
END:VCALENDAR